BEGIN:VCALENDAR
VERSION:2.0
PRODID:-//Plone.org//NONSGML plone.app.event//EN
X-WR-TIMEZONE:Europe/Madrid
BEGIN:VEVENT
SUMMARY:Presentació del llibre : Lliures o morts de Jaume Clotet i David de Montserrat
DTSTART;TZID=Europe/Madrid;VALUE=DATE-TIME:20121102T200000
DTEND;TZID=Europe/Madrid;VALUE=DATE-TIME:20121102T210000
DTSTAMP;VALUE=DATE-TIME:20260425T214848Z
UID:17561112d036652910cb5ae31a1a4e01
CREATED;VALUE=DATE-TIME:20121102T000000Z
CATEGORIES:Literatura
LOCATION:Sala d'actes de la Biblioteca - C. Bonaire, 2
ORGANIZER:Biblioteca - Regidoria de Cultura
DESCRIPTION:a càrrec de Marc Colomer i Oriol Ferran
URL:https://arenysdemar.cat/document.php?id=25097
END:VEVENT
END:VCALENDAR