BEGIN:VCALENDAR
VERSION:2.0
PRODID:-//Plone.org//NONSGML plone.app.event//EN
X-WR-TIMEZONE:Europe/Madrid
BEGIN:VEVENT
SUMMARY:Conferència : Les cultures, formes d'entendre i adaptar-se als móns  particulars
DTSTART;TZID=Europe/Madrid;VALUE=DATE-TIME:20121113T180000
DTEND;TZID=Europe/Madrid;VALUE=DATE-TIME:20121113T190000
DTSTAMP;VALUE=DATE-TIME:20260426T013234Z
UID:47a4ba60cf985489de1c7f92d99f19e7
CREATED;VALUE=DATE-TIME:20121113T000000Z
CATEGORIES:Conferència
LOCATION:Auditori J.M. Arnau del C.C.Calisay - Riera del Pare Fita, 31
ORGANIZER:Aula d'Extensió Universitària
DESCRIPTION:a càrrec de Robert Sala de la Universitat Rovira i Virgili
URL:https://arenysdemar.cat/document.php?id=25101
END:VEVENT
END:VCALENDAR