BEGIN:VCALENDAR
VERSION:2.0
PRODID:-//Plone.org//NONSGML plone.app.event//EN
X-WR-TIMEZONE:Europe/Madrid
BEGIN:VEVENT
SUMMARY:Audiència pública d'ordenances fiscals i taxes del 2013
DTSTART;TZID=Europe/Madrid;VALUE=DATE-TIME:20121105T190000
DTEND;TZID=Europe/Madrid;VALUE=DATE-TIME:20121105T200000
DTSTAMP;VALUE=DATE-TIME:20260425T200956Z
UID:c2deaa7796b6b4177c85842782dc530b
CREATED;VALUE=DATE-TIME:20121105T000000Z
LOCATION:Sala d'Actes de l'Ajuntament - Riera Bisbe Pol, 8
ORGANIZER:Ajuntament d'Arenys de Mar
DESCRIPTION:Acte obert a tota la ciutadania
URL:https://arenysdemar.cat/document.php?id=25153
END:VEVENT
END:VCALENDAR