BEGIN:VCALENDAR
VERSION:2.0
PRODID:-//Plone.org//NONSGML plone.app.event//EN
X-WR-TIMEZONE:Europe/Madrid
BEGIN:VEVENT
SUMMARY:Ballada de gegants i cadena humana per la Marató
DTSTART;TZID=Europe/Madrid;VALUE=DATE-TIME:20121202T120000
DTEND;TZID=Europe/Madrid;VALUE=DATE-TIME:20121202T130000
DTSTAMP;VALUE=DATE-TIME:20260426T013726Z
UID:a10eb236ce4cc3cbd09764240eff3232
CREATED;VALUE=DATE-TIME:20121202T000000Z
CATEGORIES:Festa
LOCATION:Davant del CC Calisay
ORGANIZER:Penya Apa Anem-hi i Associació de Geganters d'Arenys
DESCRIPTION:Participa-hi!
URL:https://arenysdemar.cat/document.php?id=25162
END:VEVENT
END:VCALENDAR