BEGIN:VCALENDAR
VERSION:2.0
PRODID:-//Plone.org//NONSGML plone.app.event//EN
X-WR-TIMEZONE:Europe/Madrid
BEGIN:VEVENT
SUMMARY:Taula rodona : Anem a Teatre, a Arenys o baixem a Barcelona?
DTSTART;TZID=Europe/Madrid;VALUE=DATE-TIME:20121114T203000
DTEND;TZID=Europe/Madrid;VALUE=DATE-TIME:20121114T213000
DTSTAMP;VALUE=DATE-TIME:20260426T013011Z
UID:9508b603321239c3e3c0407e26a681bc
CREATED;VALUE=DATE-TIME:20121114T000000Z
CATEGORIES:Conferència
LOCATION:Teatre Principal - C. Església, 45-47
ORGANIZER:SC L'Esperança i Regidoria de Cultura
COMMENT:Preu: Gratuït
URL:https://arenysdemar.cat/document.php?id=25181
END:VEVENT
END:VCALENDAR