BEGIN:VCALENDAR
VERSION:2.0
PRODID:-//Plone.org//NONSGML plone.app.event//EN
X-WR-TIMEZONE:Europe/Madrid
BEGIN:VEVENT
SUMMARY:Pessebre municipal
DTSTART;TZID=Europe/Madrid;VALUE=DATE-TIME:20121221T180000
DTEND;TZID=Europe/Madrid;VALUE=DATE-TIME:20121221T190000
DTSTAMP;VALUE=DATE-TIME:20260426T045220Z
UID:75e00e89f7b2d1ba6152512c70c1f52b
CREATED;VALUE=DATE-TIME:20121221T000000Z
CATEGORIES:Exposició
LOCATION:Sala Exposicions del C.C.Calisay - Riera del Pare Fita, 31
ORGANIZER:CSFEM
COMMENT:Durada: Fins al 6 de gener de 2013
DESCRIPTION:Els pastors de Betlem havien sentit un àngel....
URL:https://arenysdemar.cat/document.php?id=25190
END:VEVENT
END:VCALENDAR