BEGIN:VCALENDAR
VERSION:2.0
PRODID:-//Plone.org//NONSGML plone.app.event//EN
X-WR-TIMEZONE:Europe/Madrid
BEGIN:VEVENT
SUMMARY:Festa del Pre-Nadal a l'Esplai
DTSTART;TZID=Europe/Madrid;VALUE=DATE-TIME:20121223T170000
DTEND;TZID=Europe/Madrid;VALUE=DATE-TIME:20121223T180000
DTSTAMP;VALUE=DATE-TIME:20260422T105505Z
UID:1c7a7332e939ef5a039697fd85308fb1
CREATED;VALUE=DATE-TIME:20121223T000000Z
CATEGORIES:Festa
LOCATION:Bar Esplai Gent Gran - Riera del Pare Fita, 31
ORGANIZER:L'Esplai de la Gent Gran
COMMENT:Preu: 2 &euro;
URL:https://arenysdemar.cat/document.php?id=25201
END:VEVENT
END:VCALENDAR