BEGIN:VCALENDAR
VERSION:2.0
PRODID:-//Plone.org//NONSGML plone.app.event//EN
X-WR-TIMEZONE:Europe/Madrid
BEGIN:VEVENT
SUMMARY:Hora del conte : El caganer
DTSTART;TZID=Europe/Madrid;VALUE=DATE-TIME:20121213T180000
DTEND;TZID=Europe/Madrid;VALUE=DATE-TIME:20121213T190000
DTSTAMP;VALUE=DATE-TIME:20260422T134630Z
UID:94f70d9344d8abea1b3ff80f96a09c83
CREATED;VALUE=DATE-TIME:20121213T000000Z
CATEGORIES:Infantils
LOCATION:Sala d'Actes de la Biblioteca - C. Bonaire, 2
ORGANIZER:Biblioteca - Regidoria de Cultura
DESCRIPTION:a càrrec de Gemma Puig
URL:https://arenysdemar.cat/document.php?id=25206
END:VEVENT
END:VCALENDAR