BEGIN:VCALENDAR
VERSION:2.0
PRODID:-//Plone.org//NONSGML plone.app.event//EN
X-WR-TIMEZONE:Europe/Madrid
BEGIN:VEVENT
SUMMARY:Conferència : Debat nacional i debat social
DTSTART;TZID=Europe/Madrid;VALUE=DATE-TIME:20121213T183000
DTEND;TZID=Europe/Madrid;VALUE=DATE-TIME:20121213T193000
DTSTAMP;VALUE=DATE-TIME:20260422T185416Z
UID:d9b54c683ab19f8ee4210f5bea252ee7
CREATED;VALUE=DATE-TIME:20121213T000000Z
CATEGORIES:Conferència
LOCATION:Sala Noble del C.C.Calisay - Riera Pare Fita, 31
ORGANIZER:Aula d'Extensió Universitària
DESCRIPTION:a càrrec de Joan Subirats de la Universitat Autònoma de Barcelona
URL:https://arenysdemar.cat/document.php?id=25209
END:VEVENT
END:VCALENDAR