BEGIN:VCALENDAR
VERSION:2.0
PRODID:-//Plone.org//NONSGML plone.app.event//EN
X-WR-TIMEZONE:Europe/Madrid
BEGIN:VEVENT
SUMMARY:XXII Mostra de cant Coral
DTSTART;TZID=Europe/Madrid;VALUE=DATE-TIME:20121124T210000
DTEND;TZID=Europe/Madrid;VALUE=DATE-TIME:20121124T220000
DTSTAMP;VALUE=DATE-TIME:20260425T142210Z
UID:c6b44931205ce054806fd7b1f49ec3df
CREATED;VALUE=DATE-TIME:20121124T000000Z
CATEGORIES:Música
LOCATION:Església de Santa Maria - Plaça de l'Església
ORGANIZER:Societat Coral l'Esperança
DESCRIPTION:a càrrec de la Coral l'Esperança
URL:https://arenysdemar.cat/document.php?id=25219
END:VEVENT
END:VCALENDAR