BEGIN:VCALENDAR
VERSION:2.0
PRODID:-//Plone.org//NONSGML plone.app.event//EN
X-WR-TIMEZONE:Europe/Madrid
BEGIN:VEVENT
SUMMARY:Ball a l'Ateneu
DTSTART;TZID=Europe/Madrid;VALUE=DATE-TIME:20121201T230000
DTEND;TZID=Europe/Madrid;VALUE=DATE-TIME:20121202T000000
DTSTAMP;VALUE=DATE-TIME:20260426T031211Z
UID:1a4df11b874b2f1996a53eb56c34dbd6
CREATED;VALUE=DATE-TIME:20121201T000000Z
CATEGORIES:Música
LOCATION:Ateneu Arenyenc
ORGANIZER:Ateneu Arenyenc
DESCRIPTION:amb el grup Dolçe Vita
URL:https://arenysdemar.cat/document.php?id=25243
END:VEVENT
END:VCALENDAR