BEGIN:VCALENDAR
VERSION:2.0
PRODID:-//Plone.org//NONSGML plone.app.event//EN
X-WR-TIMEZONE:Europe/Madrid
BEGIN:VEVENT
SUMMARY:Tertúlia especial de Nadal: Josep Pla i la cultura del vi
DTSTART;TZID=Europe/Madrid;VALUE=DATE-TIME:20121210T190000
DTEND;TZID=Europe/Madrid;VALUE=DATE-TIME:20121210T200000
DTSTAMP;VALUE=DATE-TIME:20260422T122640Z
UID:f12192e381953add9a5488fe708ad670
CREATED;VALUE=DATE-TIME:20121210T000000Z
CATEGORIES:Mostra,Literatura
LOCATION:Sala d'Actes de la Biblioteca - C. Bonaire, 2
ORGANIZER:Biblioteca - Regidoria de Cultura
DESCRIPTION:a càrrec de Ramon Verdaguer amb la participació del Club del Cep
URL:https://arenysdemar.cat/document.php?id=25245
END:VEVENT
END:VCALENDAR