BEGIN:VCALENDAR
VERSION:2.0
PRODID:-//Plone.org//NONSGML plone.app.event//EN
X-WR-TIMEZONE:Europe/Madrid
BEGIN:VEVENT
SUMMARY:Ball a l'Ateneu
DTSTART;TZID=Europe/Madrid;VALUE=DATE-TIME:20121202T183000
DTEND;TZID=Europe/Madrid;VALUE=DATE-TIME:20121202T193000
DTSTAMP;VALUE=DATE-TIME:20260425T233055Z
UID:6783d4419e3c2e11839b4ab36fa92267
CREATED;VALUE=DATE-TIME:20121202T000000Z
CATEGORIES:Música
LOCATION:Ateneu Arenyenc
ORGANIZER:Ateneu Arenyenc
DESCRIPTION:amb el grup Los Duendes
URL:https://arenysdemar.cat/document.php?id=25247
END:VEVENT
END:VCALENDAR