BEGIN:VCALENDAR
VERSION:2.0
PRODID:-//Plone.org//NONSGML plone.app.event//EN
X-WR-TIMEZONE:Europe/Madrid
BEGIN:VEVENT
SUMMARY:Ioga Day: Els drets de les dones necessiten un canvi de postura
DTSTART;TZID=Europe/Madrid;VALUE=DATE-TIME:20121121T064500
DTEND;TZID=Europe/Madrid;VALUE=DATE-TIME:20121121T074500
DTSTAMP;VALUE=DATE-TIME:20260426T045341Z
UID:a4e3c573254cb5fcb402134c0fd1333b
CREATED;VALUE=DATE-TIME:20121121T000000Z
CATEGORIES:Esports
LOCATION:L'Espai Zen
ORGANIZER:Amnistia Internacional amb la solidaritat de la Reg. d'Igualtat
COMMENT:Preu: Un donatiu voluntari per cada sessió de ioga
Durada: 23 de novembre
DESCRIPTION:Dia internacional contra la violència envers les dones
URL:https://arenysdemar.cat/document.php?id=25249
END:VEVENT
END:VCALENDAR