BEGIN:VCALENDAR
VERSION:2.0
PRODID:-//Plone.org//NONSGML plone.app.event//EN
X-WR-TIMEZONE:Europe/Madrid
BEGIN:VEVENT
SUMMARY:Preparem-nos per Nadal!!
DTSTART;TZID=Europe/Madrid;VALUE=DATE-TIME:20121216T110000
DTEND;TZID=Europe/Madrid;VALUE=DATE-TIME:20121216T120000
DTSTAMP;VALUE=DATE-TIME:20260426T063643Z
UID:0dbfdf1a3ff5e3d2100a1b091b34d0cc
CREATED;VALUE=DATE-TIME:20121216T000000Z
CATEGORIES:Festa
LOCATION:Patis de l'Escola Joan Maragall
ORGANIZER:AMPA Escola Joan Maragall
COMMENT:Preu: 1&euro; per taller realitzat
DESCRIPTION:En col·laboració amb la Marató de TV3
URL:https://arenysdemar.cat/document.php?id=25294
END:VEVENT
END:VCALENDAR