BEGIN:VCALENDAR
VERSION:2.0
PRODID:-//Plone.org//NONSGML plone.app.event//EN
X-WR-TIMEZONE:Europe/Madrid
BEGIN:VEVENT
SUMMARY:Fira Naturàlia
DTSTART;TZID=Europe/Madrid;VALUE=DATE-TIME:20130324T100000
DTEND;TZID=Europe/Madrid;VALUE=DATE-TIME:20130324T110000
DTSTAMP;VALUE=DATE-TIME:20260421T134603Z
UID:970aef25217c56dc2885fb296a7ee7e7
CREATED;VALUE=DATE-TIME:20130324T000000Z
CATEGORIES:Mostra
LOCATION:Sala Polivalent del C.C.Calisay - Riera Pare Fita, 31
ORGANIZER:CRISÀLIDE (Associació Nou i Vell) en col·laboració amb la Regidoria de Turisme i Fires
COMMENT:Preu: Entrada lliure
DESCRIPTION:Fira de teràpies naturals
URL:https://arenysdemar.cat/document.php?id=25317
END:VEVENT
END:VCALENDAR