BEGIN:VCALENDAR
VERSION:2.0
PRODID:-//Plone.org//NONSGML plone.app.event//EN
X-WR-TIMEZONE:Europe/Madrid
BEGIN:VEVENT
SUMMARY:Fira del Col·leccionisme
DTSTART;TZID=Europe/Madrid;VALUE=DATE-TIME:20130210T090000
DTEND;TZID=Europe/Madrid;VALUE=DATE-TIME:20130210T100000
DTSTAMP;VALUE=DATE-TIME:20260421T140601Z
UID:a40c0cfa13d5ebb6f708b00195a6cc68
CREATED;VALUE=DATE-TIME:20130210T000000Z
CATEGORIES:Mostra
LOCATION:Riera davant del Calisay i davant Pl. Mare Paula Montalt
ORGANIZER:Crisàlide (Associació Col&bull;leccionisme Nou i Vell) i Associació Col&bull;leccionisme Llebeig amb la col&bull;laboració de la Regidoria de Turisme i Fires
COMMENT:Durada: Fins a les 14h
URL:https://arenysdemar.cat/document.php?id=25321
END:VEVENT
END:VCALENDAR