BEGIN:VCALENDAR
VERSION:2.0
PRODID:-//Plone.org//NONSGML plone.app.event//EN
X-WR-TIMEZONE:Europe/Madrid
BEGIN:VEVENT
SUMMARY:Fira diatònica
DTSTART;TZID=Europe/Madrid;VALUE=DATE-TIME:20130119T110000
DTEND;TZID=Europe/Madrid;VALUE=DATE-TIME:20130119T120000
DTSTAMP;VALUE=DATE-TIME:20260419T184444Z
UID:bd7659ec74fe5f7db36e67308f4d9892
CREATED;VALUE=DATE-TIME:20130119T000000Z
CATEGORIES:Mostra,Festa,Música
LOCATION:Sala Polivalent del C.C.Calisay - Riera Pare Fita, 31
ORGANIZER:Associació d'acordionistes del PPCC La Diatònica
COMMENT:Durada: també el dia 20 fins al migdia
DESCRIPTION:Festival i fira d'acordions diatònics
URL:https://arenysdemar.cat/document.php?id=25369
END:VEVENT
END:VCALENDAR