BEGIN:VCALENDAR
VERSION:2.0
PRODID:-//Plone.org//NONSGML plone.app.event//EN
X-WR-TIMEZONE:Europe/Madrid
BEGIN:VEVENT
SUMMARY:Barna Brass Quintet
DTSTART;TZID=Europe/Madrid;VALUE=DATE-TIME:20130217T190000
DTEND;TZID=Europe/Madrid;VALUE=DATE-TIME:20130217T200000
DTSTAMP;VALUE=DATE-TIME:20260424T214145Z
UID:4bd3160397c8f7172b493f4daa3b5d50
CREATED;VALUE=DATE-TIME:20130217T000000Z
CATEGORIES:Música
LOCATION:Teatre Principal - C. Església, 45-47
ORGANIZER:L'Aula d'Extenció Universitaria
COMMENT:Preu: 12
DESCRIPTION:Cloenda del Febrer Musical
URL:https://arenysdemar.cat/document.php?id=25429
END:VEVENT
END:VCALENDAR