BEGIN:VCALENDAR
VERSION:2.0
PRODID:-//Plone.org//NONSGML plone.app.event//EN
X-WR-TIMEZONE:Europe/Madrid
BEGIN:VEVENT
SUMMARY:Aprèn a dibuixar Manga
DTSTART;TZID=Europe/Madrid;VALUE=DATE-TIME:20130215T170000
DTEND;TZID=Europe/Madrid;VALUE=DATE-TIME:20130215T180000
DTSTAMP;VALUE=DATE-TIME:20260420T094418Z
UID:1d4dfb46c17d986950fd0b9dba0ef486
CREATED;VALUE=DATE-TIME:20130215T000000Z
CATEGORIES:Mostra
LOCATION:Espai Jove del C.C.Calisay - Riera del Pare Fita, 31
ORGANIZER:Regidoria d'Infància i Joventut
DESCRIPTION:Aprèn les diferents tècniques per a dibuixar Manga
URL:https://arenysdemar.cat/document.php?id=25438
END:VEVENT
END:VCALENDAR