BEGIN:VCALENDAR
VERSION:2.0
PRODID:-//Plone.org//NONSGML plone.app.event//EN
X-WR-TIMEZONE:Europe/Madrid
BEGIN:VEVENT
SUMMARY:Deixalleria Mòbil
DTSTART;TZID=Europe/Madrid;VALUE=DATE-TIME:20130126T090000
DTEND;TZID=Europe/Madrid;VALUE=DATE-TIME:20130126T100000
DTSTAMP;VALUE=DATE-TIME:20260424T040942Z
UID:e94a4e8123b1c906ad3e30c4b964983c
CREATED;VALUE=DATE-TIME:20130126T000000Z
LOCATION:Riera Pare Fita cantonada c/Barcelona
ORGANIZER:Regidoria de Medi Ambient
URL:https://arenysdemar.cat/document.php?id=25440
END:VEVENT
END:VCALENDAR