BEGIN:VCALENDAR
VERSION:2.0
PRODID:-//Plone.org//NONSGML plone.app.event//EN
X-WR-TIMEZONE:Europe/Madrid
BEGIN:VEVENT
SUMMARY:Ball de Carnaval de les escoles bressol
DTSTART;TZID=Europe/Madrid;VALUE=DATE-TIME:20130207T160000
DTEND;TZID=Europe/Madrid;VALUE=DATE-TIME:20130207T170000
DTSTAMP;VALUE=DATE-TIME:20260420T113321Z
UID:506ae255ca58b9a76aa38f072b40185a
CREATED;VALUE=DATE-TIME:20130207T000000Z
CATEGORIES:Infantils
LOCATION:Sala Polivalent del C.C.Calisay - Riera Pare Fita, 31
ORGANIZER:Ajuntament d'Arenys de Mar i les Escoles Bressol
DESCRIPTION:amb Toni Vives i Cia
URL:https://arenysdemar.cat/document.php?id=25467
END:VEVENT
END:VCALENDAR