BEGIN:VCALENDAR
VERSION:2.0
PRODID:-//Plone.org//NONSGML plone.app.event//EN
X-WR-TIMEZONE:Europe/Madrid
BEGIN:VEVENT
SUMMARY:Concert de banda
DTSTART;TZID=Europe/Madrid;VALUE=DATE-TIME:20130212T193000
DTEND;TZID=Europe/Madrid;VALUE=DATE-TIME:20130212T203000
DTSTAMP;VALUE=DATE-TIME:20260420T042908Z
UID:d0a742c09ca3e9c10dc7b706f0cec4fb
CREATED;VALUE=DATE-TIME:20130212T000000Z
CATEGORIES:Música
LOCATION:Pati del C.C.Calisay - Riera del Pare Fita, 31
ORGANIZER:Ajuntament d'Arenys de Mar i EMA
DESCRIPTION:a càrrec de la Banda de l'Escola de Música Carles G. Vidiella
URL:https://arenysdemar.cat/document.php?id=25471
END:VEVENT
END:VCALENDAR