BEGIN:VCALENDAR
VERSION:2.0
PRODID:-//Plone.org//NONSGML plone.app.event//EN
X-WR-TIMEZONE:Europe/Madrid
BEGIN:VEVENT
SUMMARY:Botifarrada popular
DTSTART;TZID=Europe/Madrid;VALUE=DATE-TIME:20130208T200000
DTEND;TZID=Europe/Madrid;VALUE=DATE-TIME:20130208T210000
DTSTAMP;VALUE=DATE-TIME:20260420T043508Z
UID:1da1a1c92a849e972e05e7f56982c5d7
CREATED;VALUE=DATE-TIME:20130208T000000Z
CATEGORIES:Festa
LOCATION:Plaça de l'Església - Plaça de l'Església
ORGANIZER:Ajuntament d'Arenys de Mar i FemAteneu
DESCRIPTION:mengem-nos la botifarra!!
URL:https://arenysdemar.cat/document.php?id=25479
END:VEVENT
END:VCALENDAR