BEGIN:VCALENDAR
VERSION:2.0
PRODID:-//Plone.org//NONSGML plone.app.event//EN
X-WR-TIMEZONE:Europe/Madrid
BEGIN:VEVENT
SUMMARY:Passarel·la de disfresses
DTSTART;TZID=Europe/Madrid;VALUE=DATE-TIME:20130210T120000
DTEND;TZID=Europe/Madrid;VALUE=DATE-TIME:20130210T130000
DTSTAMP;VALUE=DATE-TIME:20260420T075846Z
UID:0493e6b91a6d44db8c5b1622322ebe99
CREATED;VALUE=DATE-TIME:20130210T000000Z
CATEGORIES:Mostra
LOCATION:Sala Polivalent del C.C.Calisay - Riera Pare Fita, 31
ORGANIZER:Ajuntament d'Arenys de Mar
DESCRIPTION:Apunta-t'hi!!!
URL:https://arenysdemar.cat/document.php?id=25480
END:VEVENT
END:VCALENDAR