BEGIN:VCALENDAR
VERSION:2.0
PRODID:-//Plone.org//NONSGML plone.app.event//EN
X-WR-TIMEZONE:Europe/Madrid
BEGIN:VEVENT
SUMMARY:Campanya de donació de sang
DTSTART;TZID=Europe/Madrid;VALUE=DATE-TIME:20130123T170000
DTEND;TZID=Europe/Madrid;VALUE=DATE-TIME:20130123T180000
DTSTAMP;VALUE=DATE-TIME:20260422T171805Z
UID:fcc5550a43db7700a7169d09f47cc8d5
CREATED;VALUE=DATE-TIME:20130123T000000Z
LOCATION:Placeta davant del C.C. Calisay
ORGANIZER:Banc de Sang i Teixits
COMMENT:Durada: Fins a les 21h
URL:https://arenysdemar.cat/document.php?id=25496
END:VEVENT
END:VCALENDAR