BEGIN:VCALENDAR
VERSION:2.0
PRODID:-//Plone.org//NONSGML plone.app.event//EN
X-WR-TIMEZONE:Europe/Madrid
BEGIN:VEVENT
SUMMARY:Xerrada informativa sobre les participacions preferents
DTSTART;TZID=Europe/Madrid;VALUE=DATE-TIME:20130206T180000
DTEND;TZID=Europe/Madrid;VALUE=DATE-TIME:20130206T190000
DTSTAMP;VALUE=DATE-TIME:20260421T135313Z
UID:5fd7719d404cf433de25062e803fcbfe
CREATED;VALUE=DATE-TIME:20130206T000000Z
CATEGORIES:Conferència
LOCATION:Sala Noble del C.C.Calisay - Riera Pare Fita, 31
ORGANIZER:Regidoria de Consum
URL:https://arenysdemar.cat/document.php?id=25507
END:VEVENT
END:VCALENDAR