BEGIN:VCALENDAR
VERSION:2.0
PRODID:-//Plone.org//NONSGML plone.app.event//EN
X-WR-TIMEZONE:Europe/Madrid
BEGIN:VEVENT
SUMMARY:L'antic mercat de l'intercanvi
DTSTART;TZID=Europe/Madrid;VALUE=DATE-TIME:20130302T100000
DTEND;TZID=Europe/Madrid;VALUE=DATE-TIME:20130302T110000
DTSTAMP;VALUE=DATE-TIME:20260421T134757Z
UID:802715dfe4057a62da77b40051179953
CREATED;VALUE=DATE-TIME:20130302T000000Z
CATEGORIES:Mostra
LOCATION:Pati del C.C.Calisay - Riera del Pare Fita, 31
ORGANIZER:Banc del Temps d'Arenys
COMMENT:Durada: 13:30
DESCRIPTION:S'ofereixen objectes i serveis
URL:https://arenysdemar.cat/document.php?id=25581
END:VEVENT
END:VCALENDAR