BEGIN:VCALENDAR
VERSION:2.0
PRODID:-//Plone.org//NONSGML plone.app.event//EN
X-WR-TIMEZONE:Europe/Madrid
BEGIN:VEVENT
SUMMARY:Teatre : Soy la otra (La Diva)
DTSTART;TZID=Europe/Madrid;VALUE=DATE-TIME:20130315T210000
DTEND;TZID=Europe/Madrid;VALUE=DATE-TIME:20130315T220000
DTSTAMP;VALUE=DATE-TIME:20260421T135751Z
UID:e13a0231606b4040b885fafe0de787fd
CREATED;VALUE=DATE-TIME:20130315T000000Z
CATEGORIES:Música,Teatre
LOCATION:Teatre Principal - C. Església, 45-47
ORGANIZER:S.C. L'Esperança i la Regidoria de Cultura
COMMENT:Preu: 10 anticipada per internet a www.teatreprincipal.cat i 12 una hora abans a taquilla
DESCRIPTION:a càrrec de la Cia. Alba Sarraute
URL:https://arenysdemar.cat/document.php?id=25591
END:VEVENT
END:VCALENDAR