BEGIN:VCALENDAR
VERSION:2.0
PRODID:-//Plone.org//NONSGML plone.app.event//EN
X-WR-TIMEZONE:Europe/Madrid
BEGIN:VEVENT
SUMMARY:Jornada de portes obertes
DTSTART;TZID=Europe/Madrid;VALUE=DATE-TIME:20130317T000000
DTEND;TZID=Europe/Madrid;VALUE=DATE-TIME:20130317T010000
DTSTAMP;VALUE=DATE-TIME:20260420T221215Z
UID:f67030332f6ab03e9e736f368313b9b8
CREATED;VALUE=DATE-TIME:20130317T000000Z
CATEGORIES:Exposició
LOCATION:Museu Marès de la Punta i Museu Mollfulleda de Mineralogia - Església, 41
ORGANIZER:Ajuntament d'Arenys de Mar-Museu d'Arenys de Mar
DESCRIPTION:30 anys del Museu Marès de la Punta
URL:https://arenysdemar.cat/document.php?id=25600
END:VEVENT
END:VCALENDAR