BEGIN:VCALENDAR
VERSION:2.0
PRODID:-//Plone.org//NONSGML plone.app.event//EN
X-WR-TIMEZONE:Europe/Madrid
BEGIN:VEVENT
SUMMARY:Assemblea General Ordinària de la Federació de Cors de Clavé
DTSTART;TZID=Europe/Madrid;VALUE=DATE-TIME:20130323T110000
DTEND;TZID=Europe/Madrid;VALUE=DATE-TIME:20130323T120000
DTSTAMP;VALUE=DATE-TIME:20260424T001846Z
UID:3f5c08e59b1fdfc3c789e6ef91b479d1
CREATED;VALUE=DATE-TIME:20130323T000000Z
LOCATION:Teatre Principal - C. Església, 45-47
ORGANIZER:Societat Coral L'Esperança i Federació de Cors de Clavé
URL:https://arenysdemar.cat/document.php?id=25667
END:VEVENT
END:VCALENDAR