BEGIN:VCALENDAR
VERSION:2.0
PRODID:-//Plone.org//NONSGML plone.app.event//EN
X-WR-TIMEZONE:Europe/Madrid
BEGIN:VEVENT
SUMMARY:Taller de cuina saludable per a Joves
DTSTART;TZID=Europe/Madrid;VALUE=DATE-TIME:20130323T170000
DTEND;TZID=Europe/Madrid;VALUE=DATE-TIME:20130323T180000
DTSTAMP;VALUE=DATE-TIME:20260421T134640Z
UID:031e6a19d05682e351defab5a5b7f81a
CREATED;VALUE=DATE-TIME:20130323T000000Z
LOCATION:Espai Jove del C.C.Calisay - Riera del Pare Fita, 31
ORGANIZER:Espai Jove - Reg. de Joventut
DESCRIPTION:Aprèn receptes fàcils i sanes
URL:https://arenysdemar.cat/document.php?id=25680
END:VEVENT
END:VCALENDAR