BEGIN:VCALENDAR
VERSION:2.0
PRODID:-//Plone.org//NONSGML plone.app.event//EN
X-WR-TIMEZONE:Europe/Madrid
BEGIN:VEVENT
SUMMARY:Festa d'aniversari de l'Espai Jove
DTSTART;TZID=Europe/Madrid;VALUE=DATE-TIME:20130328T173000
DTEND;TZID=Europe/Madrid;VALUE=DATE-TIME:20130328T183000
DTSTAMP;VALUE=DATE-TIME:20260421T122144Z
UID:880e468dfcce8e043804d770abd642b4
CREATED;VALUE=DATE-TIME:20130328T000000Z
CATEGORIES:Festa
LOCATION:Espai Jove del C.C.Calisay - Riera del Pare Fita, 31
ORGANIZER:Espai Jove - Regidoria de Joventut
DESCRIPTION:Celebra-ho amb nosaltres
URL:https://arenysdemar.cat/document.php?id=25681
END:VEVENT
END:VCALENDAR