BEGIN:VCALENDAR
VERSION:2.0
PRODID:-//Plone.org//NONSGML plone.app.event//EN
X-WR-TIMEZONE:Europe/Madrid
BEGIN:VEVENT
SUMMARY:Exposició de pintures i fotografies : Damunt la mar en calma. Dues mirades
DTSTART;TZID=Europe/Madrid;VALUE=DATE-TIME:20130301T200000
DTEND;TZID=Europe/Madrid;VALUE=DATE-TIME:20130301T210000
DTSTAMP;VALUE=DATE-TIME:20260420T112954Z
UID:ea2a48e848ff2729a0d61dc5876e099b
CREATED;VALUE=DATE-TIME:20130301T000000Z
CATEGORIES:Exposició
LOCATION:Sala Exposicions del C.C.Calisay - Riera del Pare Fita, 31
ORGANIZER:Regidoria de Cultura
COMMENT:Durada: fins al 31 de març
DESCRIPTION:de Carme Riera i Araceli Merino
URL:https://arenysdemar.cat/document.php?id=25687
END:VEVENT
END:VCALENDAR