BEGIN:VCALENDAR
VERSION:2.0
PRODID:-//Plone.org//NONSGML plone.app.event//EN
X-WR-TIMEZONE:Europe/Madrid
BEGIN:VEVENT
SUMMARY:Assemblea General Ordinària
DTSTART;TZID=Europe/Madrid;VALUE=DATE-TIME:20130302T183000
DTEND;TZID=Europe/Madrid;VALUE=DATE-TIME:20130302T193000
DTSTAMP;VALUE=DATE-TIME:20260421T150239Z
UID:1d8223b4a464398a6810582b74d530b2
CREATED;VALUE=DATE-TIME:20130302T000000Z
CATEGORIES:Conferència
LOCATION:Teatre Principal - C. Església, 45-47
ORGANIZER:Societat Coral L'Esperança
URL:https://arenysdemar.cat/document.php?id=25708
END:VEVENT
END:VCALENDAR