BEGIN:VCALENDAR
VERSION:2.0
PRODID:-//Plone.org//NONSGML plone.app.event//EN
X-WR-TIMEZONE:Europe/Madrid
BEGIN:VEVENT
SUMMARY:Fira Dolça
DTSTART;TZID=Europe/Madrid;VALUE=DATE-TIME:20130427T100000
DTEND;TZID=Europe/Madrid;VALUE=DATE-TIME:20130427T110000
DTSTAMP;VALUE=DATE-TIME:20260423T163457Z
UID:9e974da6bd9deed4ee495ed057aa5b9d
CREATED;VALUE=DATE-TIME:20130427T000000Z
CATEGORIES:Mostra
LOCATION:Riera del Pare Fita (davant plaça Mare Paula Montalt)
ORGANIZER:Regidoria de Turisme i Fires
COMMENT:Durada: També el 28 d'abril
DESCRIPTION:Fira d'alimentació
URL:https://arenysdemar.cat/document.php?id=25768
END:VEVENT
END:VCALENDAR