BEGIN:VCALENDAR
VERSION:2.0
PRODID:-//Plone.org//NONSGML plone.app.event//EN
X-WR-TIMEZONE:Europe/Madrid
BEGIN:VEVENT
SUMMARY:Visita de la deixalleria mòbil
DTSTART;TZID=Europe/Madrid;VALUE=DATE-TIME:20130330T090000
DTEND;TZID=Europe/Madrid;VALUE=DATE-TIME:20130330T100000
DTSTAMP;VALUE=DATE-TIME:20260424T041112Z
UID:394b64f5333cae8692199a85f35925f2
CREATED;VALUE=DATE-TIME:20130330T000000Z
LOCATION:Riera Pare Fita, cantonada amb c. Barcelona
ORGANIZER:Regidoria de Medi Ambient
URL:https://arenysdemar.cat/document.php?id=25779
END:VEVENT
END:VCALENDAR