BEGIN:VCALENDAR
VERSION:2.0
PRODID:-//Plone.org//NONSGML plone.app.event//EN
X-WR-TIMEZONE:Europe/Madrid
BEGIN:VEVENT
SUMMARY:Mostra de monòlegs
DTSTART;TZID=Europe/Madrid;VALUE=DATE-TIME:20130405T220000
DTEND;TZID=Europe/Madrid;VALUE=DATE-TIME:20130405T230000
DTSTAMP;VALUE=DATE-TIME:20260422T042845Z
UID:6cdc2a232aeae930b2ba9021eee7fa62
CREATED;VALUE=DATE-TIME:20130405T000000Z
CATEGORIES:Mostra,Teatre
LOCATION:Bar dels Seràfics
ORGANIZER:Casal de Joventut Seràfica
COMMENT:Preu: 5&euro; amb una consumició
DESCRIPTION:a càrrec de Toni Garcia, monologuista professional
URL:https://arenysdemar.cat/document.php?id=25800
END:VEVENT
END:VCALENDAR