BEGIN:VCALENDAR
VERSION:2.0
PRODID:-//Plone.org//NONSGML plone.app.event//EN
X-WR-TIMEZONE:Europe/Madrid
BEGIN:VEVENT
SUMMARY:Assemblea de la Demarcació de Girona
DTSTART;TZID=Europe/Madrid;VALUE=DATE-TIME:20131117T090000
DTEND;TZID=Europe/Madrid;VALUE=DATE-TIME:20131117T100000
DTSTAMP;VALUE=DATE-TIME:20260421T010722Z
UID:87286774b7e39d59f7f6eed52d4be452
CREATED;VALUE=DATE-TIME:20131117T000000Z
LOCATION:Teatre Principal - C. Església, 45-47
ORGANIZER:AEiG Flos i Calcat
DESCRIPTION:Assemblea interna dels Agrupaments Escoltes i Guies pertanyents a la Demarcació de Girona
URL:https://arenysdemar.cat/document.php?id=25876
END:VEVENT
END:VCALENDAR