BEGIN:VCALENDAR
VERSION:2.0
PRODID:-//Plone.org//NONSGML plone.app.event//EN
X-WR-TIMEZONE:Europe/Madrid
BEGIN:VEVENT
SUMMARY:Tarda de castells
DTSTART;TZID=Europe/Madrid;VALUE=DATE-TIME:20130708T200000
DTEND;TZID=Europe/Madrid;VALUE=DATE-TIME:20130708T210000
DTSTAMP;VALUE=DATE-TIME:20260419T235144Z
UID:4e29fdde39d6386fa1417bd12890b58c
CREATED;VALUE=DATE-TIME:20130708T000000Z
CATEGORIES:Mostra
LOCATION:a la Riera, davant del CC Calisay
ORGANIZER:Ajuntament d'Arenys de Mar
DESCRIPTION:amb els Capgrossos de Mataró
URL:https://arenysdemar.cat/document.php?id=25931
END:VEVENT
END:VCALENDAR