BEGIN:VCALENDAR
VERSION:2.0
PRODID:-//Plone.org//NONSGML plone.app.event//EN
X-WR-TIMEZONE:Europe/Madrid
BEGIN:VEVENT
SUMMARY:Jornada de portes obertes als Museus
DTSTART;TZID=Europe/Madrid;VALUE=DATE-TIME:20130526T000000
DTEND;TZID=Europe/Madrid;VALUE=DATE-TIME:20130526T010000
DTSTAMP;VALUE=DATE-TIME:20260423T200643Z
UID:8b09fe9d7147afd9965a681153a75dbf
CREATED;VALUE=DATE-TIME:20130526T000000Z
CATEGORIES:Exposició
LOCATION:Museu Marès de la Punta - Església, 41
ORGANIZER:Museu d'Arenys de Mar i Associació de la Fira del Solstici
COMMENT:Preu: Gratuït
URL:https://arenysdemar.cat/document.php?id=25948
END:VEVENT
END:VCALENDAR