BEGIN:VCALENDAR
VERSION:2.0
PRODID:-//Plone.org//NONSGML plone.app.event//EN
X-WR-TIMEZONE:Europe/Madrid
BEGIN:VEVENT
SUMMARY:Taller preventiu de la Memòria de la Gent Gran
DTSTART;TZID=Europe/Madrid;VALUE=DATE-TIME:20130426T100000
DTEND;TZID=Europe/Madrid;VALUE=DATE-TIME:20130426T110000
DTSTAMP;VALUE=DATE-TIME:20260423T214736Z
UID:b26b9509a10e48ee0a44cbb70e617af7
CREATED;VALUE=DATE-TIME:20130426T000000Z
CATEGORIES:Cursos
LOCATION:Sala Gran d'entitats - Riera Pare Fita, 31
ORGANIZER:Regidoria Gent Gran
COMMENT:Durada: Fins al 26 de juliol de 2013
URL:https://arenysdemar.cat/document.php?id=25971
END:VEVENT
END:VCALENDAR