BEGIN:VCALENDAR
VERSION:2.0
PRODID:-//Plone.org//NONSGML plone.app.event//EN
X-WR-TIMEZONE:Europe/Madrid
BEGIN:VEVENT
SUMMARY:Festa al carrer de la Perera
DTSTART;TZID=Europe/Madrid;VALUE=DATE-TIME:20130809T180000
DTEND;TZID=Europe/Madrid;VALUE=DATE-TIME:20130809T190000
DTSTAMP;VALUE=DATE-TIME:20260419T201211Z
UID:665964b97ad172405ed54027a04edd77
CREATED;VALUE=DATE-TIME:20130809T000000Z
CATEGORIES:Festa
LOCATION:Carrer de la Perera
ORGANIZER:Veïns del carrer de la Perera
COMMENT:Durada: Fins al diumenge 11 d'agost
DESCRIPTION:Fins al diumenge 11 d'agost
URL:https://arenysdemar.cat/document.php?id=25974
END:VEVENT
END:VCALENDAR