BEGIN:VCALENDAR
VERSION:2.0
PRODID:-//Plone.org//NONSGML plone.app.event//EN
X-WR-TIMEZONE:Europe/Madrid
BEGIN:VEVENT
SUMMARY:Festa al carrer d'Avall
DTSTART;TZID=Europe/Madrid;VALUE=DATE-TIME:20130713T170000
DTEND;TZID=Europe/Madrid;VALUE=DATE-TIME:20130713T180000
DTSTAMP;VALUE=DATE-TIME:20260423T122026Z
UID:2569795107ec59bfb4efedeb78633cf1
CREATED;VALUE=DATE-TIME:20130713T000000Z
CATEGORIES:Festa
LOCATION:Plaça Flos i Calcat
ORGANIZER:Comissió de festes del carrer d'Avall
COMMENT:Durada: També el 14 de juliol
URL:https://arenysdemar.cat/document.php?id=25981
END:VEVENT
END:VCALENDAR