BEGIN:VCALENDAR
VERSION:2.0
PRODID:-//Plone.org//NONSGML plone.app.event//EN
X-WR-TIMEZONE:Europe/Madrid
BEGIN:VEVENT
SUMMARY:Hora del conte : Blancaneus dels Germans Grimm
DTSTART;TZID=Europe/Madrid;VALUE=DATE-TIME:20130502T180000
DTEND;TZID=Europe/Madrid;VALUE=DATE-TIME:20130502T190000
DTSTAMP;VALUE=DATE-TIME:20260423T233438Z
UID:8d7a5f9329804de3f4e364f0b7181943
CREATED;VALUE=DATE-TIME:20130502T000000Z
CATEGORIES:Infantils
LOCATION:Sala d'Actes de la Biblioteca - C. Bonaire, 2
ORGANIZER:Biblioteca - Regidoria de Cultura
DESCRIPTION:a càrrec d'Ivana Ares
URL:https://arenysdemar.cat/document.php?id=25994
END:VEVENT
END:VCALENDAR