BEGIN:VCALENDAR
VERSION:2.0
PRODID:-//Plone.org//NONSGML plone.app.event//EN
X-WR-TIMEZONE:Europe/Madrid
BEGIN:VEVENT
SUMMARY:Presentació del Mes dels Indians 2013
DTSTART;TZID=Europe/Madrid;VALUE=DATE-TIME:20130510T180000
DTEND;TZID=Europe/Madrid;VALUE=DATE-TIME:20130510T190000
DTSTAMP;VALUE=DATE-TIME:20260423T200811Z
UID:3722889e3f5b140fb7cd40460fc0f083
CREATED;VALUE=DATE-TIME:20130510T000000Z
CATEGORIES:Conferència
LOCATION:Auditori J.M. Arnau del C.C.Calisay - Riera del Pare Fita, 31
ORGANIZER:Regidoria de Turisme i Fires
URL:https://arenysdemar.cat/document.php?id=26002
END:VEVENT
END:VCALENDAR