BEGIN:VCALENDAR
VERSION:2.0
PRODID:-//Plone.org//NONSGML plone.app.event//EN
X-WR-TIMEZONE:Europe/Madrid
BEGIN:VEVENT
SUMMARY:Lliurament de premis de la Mostra Literària
DTSTART;TZID=Europe/Madrid;VALUE=DATE-TIME:20130519T120000
DTEND;TZID=Europe/Madrid;VALUE=DATE-TIME:20130519T130000
DTSTAMP;VALUE=DATE-TIME:20260421T004708Z
UID:036aba5b461a70ae69a779b4160da1b0
CREATED;VALUE=DATE-TIME:20130519T000000Z
CATEGORIES:Literatura
LOCATION:Auditori J.M. Arnau del C.C.Calisay - Riera del Pare Fita, 31
ORGANIZER:Ajuntament d'Arenys de Mar
DESCRIPTION:Amb la col·laboració de l'Escola de Música. Presenta: Marta Pérez
URL:https://arenysdemar.cat/document.php?id=26021
END:VEVENT
END:VCALENDAR