BEGIN:VCALENDAR
VERSION:2.0
PRODID:-//Plone.org//NONSGML plone.app.event//EN
X-WR-TIMEZONE:Europe/Madrid
BEGIN:VEVENT
SUMMARY:XXII Festival de Jazz
DTSTART;TZID=Europe/Madrid;VALUE=DATE-TIME:20130726T223000
DTEND;TZID=Europe/Madrid;VALUE=DATE-TIME:20130726T233000
DTSTAMP;VALUE=DATE-TIME:20260420T160336Z
UID:5d900d49cb608a7f72113efafd4fae52
CREATED;VALUE=DATE-TIME:20130726T000000Z
CATEGORIES:Música
LOCATION:Pati del Xifré - Auterive, s/n
ORGANIZER:Regidoria de Cultura, Penya Apa Anem-hi i OCR
COMMENT:Preu: 8&euro; a taquilla. 6&euro; anticipada per internet www.jazzarenys.cat
DESCRIPTION:amb l'actuació de Matthew Simon
URL:https://arenysdemar.cat/document.php?id=26027
END:VEVENT
END:VCALENDAR