BEGIN:VCALENDAR
VERSION:2.0
PRODID:-//Plone.org//NONSGML plone.app.event//EN
X-WR-TIMEZONE:Europe/Madrid
BEGIN:VEVENT
SUMMARY:Música a la Gruta
DTSTART;TZID=Europe/Madrid;VALUE=DATE-TIME:20130810T220000
DTEND;TZID=Europe/Madrid;VALUE=DATE-TIME:20130810T230000
DTSTAMP;VALUE=DATE-TIME:20260422T120125Z
UID:76a6d3012a3e6874a4f5226cd3dab78a
CREATED;VALUE=DATE-TIME:20130810T000000Z
CATEGORIES:Música
LOCATION:Gruta de Lurdes - Parc de Lurdes
ORGANIZER:Regidoria de Cultura i Associació Escola de Música
COMMENT:Preu: 2 &euro;
DESCRIPTION:Duo de guitarra i flauta amb Míriam Paretas i Rosa Soler
URL:https://arenysdemar.cat/document.php?id=26042
END:VEVENT
END:VCALENDAR