BEGIN:VCALENDAR
VERSION:2.0
PRODID:-//Plone.org//NONSGML plone.app.event//EN
X-WR-TIMEZONE:Europe/Madrid
BEGIN:VEVENT
SUMMARY:Mostra d'objectes de nàutica
DTSTART;TZID=Europe/Madrid;VALUE=DATE-TIME:20130525T000000
DTEND;TZID=Europe/Madrid;VALUE=DATE-TIME:20130525T010000
DTSTAMP;VALUE=DATE-TIME:20260419T165746Z
UID:90a8385b43476b6e837224c98086659c
CREATED;VALUE=DATE-TIME:20130525T000000Z
CATEGORIES:Exposició
LOCATION:Museu Mineralogia - Església, 37-39
ORGANIZER:Museu d'Arenys de Mar-Regidoria de Cultura i Associació de la Fira del Solstici
COMMENT:Preu: Gratuït
Durada: També diumenge 26 de maig
URL:https://arenysdemar.cat/document.php?id=26051
END:VEVENT
END:VCALENDAR